BEGIN:VCALENDAR
VERSION:2.0
PRODID:-//eventon.com NONSGML v1.0//EN
CALSCALE:GREGORIAN
METHOD:PUBLISH
BEGIN:VEVENT
UID:69e9f676ee3fd
DTSTAMP:20260423T103742Z
DTSTART:20260413T123000Z
DTEND:20260413T150000Z
LOCATION:
SUMMARY:Samen bouwen aan krachtig W&T-onderwijs
DESCRIPTION:Kinderen zijn nieuwsgierig. Ze willen ontdekken\,  onderzoeken 
 en begrijpen hoe de wereld werkt. Hoe zorgen we er samen voor dat die nieuw
 sgierigheid niet incidenteel wordt geprikkeld\,  maar duurzaam onderdeel wo
 rdt van ons onderwijs? Wetenschap & Technologie (W&T) is geen los project o
 f leuke workshop. Het is een manier van kijken\, [..]\nhttps://www.detechni
 ekbrouwerij.nl/events/inspiratiesessie-13-4-2026/
URL:https://www.detechniekbrouwerij.nl/events/inspiratiesessie-13-4-2026/
END:VEVENT
END:VCALENDAR