BEGIN:VCALENDAR
VERSION:2.0
PRODID:-//eventon.com NONSGML v1.0//EN
CALSCALE:GREGORIAN
METHOD:PUBLISH
BEGIN:VEVENT
UID:69e75ad3cc4ba
DTSTAMP:20260421T110907Z
DTSTART:20251015T120000Z
DTEND:20251015T140000Z
LOCATION:
SUMMARY:Techniek Festival Epe VO
DESCRIPTION:Speciaal voor de brugklassers van het Sprengenbeek College orga
 niseren we deze week een programma van twee uur\,  waarin leerlingen vijf v
 erschillende techniekactiviteiten volgen van elk 20 minuten. De workshops 
 zijn gericht op de technische sectoren in de gemeente Epe en geven jongeren
  een breed én concreet beeld van de mogelijkheden in[..]\nhttps://www.dete
 chniekbrouwerij.nl/events/techniek-festival-epe-vo-15-10-2/
URL:https://www.detechniekbrouwerij.nl/events/techniek-festival-epe-vo-15-10-2/
END:VEVENT
END:VCALENDAR