BEGIN:VCALENDAR
VERSION:2.0
PRODID:-//eventon.com NONSGML v1.0//EN
CALSCALE:GREGORIAN
METHOD:PUBLISH
BEGIN:VEVENT
UID:69e4f3a038214
DTSTAMP:20260419T152416Z
DTSTART:20251008T070000Z
DTEND:20251008T090000Z
LOCATION:
SUMMARY:Techniek Festival Epe PO
DESCRIPTION:We trappen een nieuw jaar af met het Techniekfestival Epe. Dit 
 keer voor groep 5\,  6 en 7. Proef in een tijdsblok van 2 uur samen met je 
 klas aan ons workshopaanbod van dit schooljaar. Schrijf je in via techlab.n
 l of neem contact op met onze onderwijsregisseur Luuk Preusterink.\nhttps:/
 /www.detechniekbrouwerij.nl/events/techniek-festival-epe-8-10-2025-2/
URL:https://www.detechniekbrouwerij.nl/events/techniek-festival-epe-8-10-2025-2/
END:VEVENT
END:VCALENDAR